BEGIN:VCALENDAR
VERSION:2.0
PRODID:-//eventon.com NONSGML v1.0//EN
BEGIN:VEVENT
UID:69e5e8ff62e8e
DTSTAMP:20260420T105111
DTSTART:20170309T173000Z
DTEND:20170309T190000Z
LOCATION:Centro Pignatelli Paseo Constitución\,  6
SUMMARY:Acto con motivo de la mujer trabajadora
DESCRIPTION: Ponencia Cristina Galletero Técnico de Empleo de Cáritas Diocesana de Albacet Grupo Confederal de Cáritas Española de Empleadas de Hogar Testimonios y Coloquio
END:VEVENT
END:VCALENDAR