BEGIN:VCALENDAR
VERSION:2.0
PRODID:-//eventon.com NONSGML v1.0//EN
BEGIN:VEVENT
UID:69e88b382db98
DTSTAMP:20260422T104752
DTSTART:20190208T173000Z
DTEND:20190208T190000Z
LOCATION:Centro Pignatelli Paseo Constitución\,  6
SUMMARY:PRESENTACIÓN DEL LIBRO: ECOLOGÍA INTEGRAL
DESCRIPTION: [button title="FOLLETO" link="https://drive.google.com/open?id=1APyYsG9ThypA9VriDsStmVC82cWdNFGk" target="_blank" align="" icon="" icon_position="" color="" font_color="" size="2" full_width="" class="" download="" onclick=""] Tendremos la ocasión de conversar con Jaime Tatay (Valencia\,  1976)\,  sacerdote jesuita\,  ingeniero de montes y teólogo\,  quien presentará su último libro Ecología Integral (BAC 2018). Hablaremos sobre el papel que las religiones están jugando en el debate[..]
END:VEVENT
END:VCALENDAR