BEGIN:VCALENDAR
VERSION:2.0
PRODID:-//eventon.com NONSGML v1.0//EN
BEGIN:VEVENT
UID:69e88b0abdbf5
DTSTAMP:20260422T104706
DTSTART:20190329T173000Z
DTEND:20190329T190000Z
LOCATION:
SUMMARY:VIEJAS Y NUEVAS POLÍTICAS
DESCRIPTION: [button title="FOLLETO" link="https://drive.google.com/open?id=1dz8M4qd0ZjG4ZYI71TRogeOECsG27EkQ" target="_blank" align="" icon="" icon_position="" color="" font_color="" size="2" full_width="" class="" download="" onclick=""] La Fundación Seminario de Investigación para la Paz\,  la Sección de Derechos Humanos del Real e Ilustre Colegio de Abogados del Zaragoza y Cáritas Zaragoza\,  proyectan repensar durante 2019 la nueva realidad africana y sus claves geopolíticas\,  asumir su gran diversidad histórica\, [..]
END:VEVENT
END:VCALENDAR