BEGIN:VCALENDAR
VERSION:2.0
PRODID:-//eventon.com NONSGML v1.0//EN
BEGIN:VEVENT
UID:69e5e7ba042c9
DTSTAMP:20260420T104546
DTSTART:20250607T190000Z
DTEND:20250606T220000Z
LOCATION:Iglesia San José Pignatelli Paseo Constitución 6
SUMMARY:La noche de las Religiones de Zaragoza
DESCRIPTION: [button title="CARTEL" link="https://drive.google.com/file/d/1mhsq0oVNIXOkStO5E_4EAqpFa4atzmby/view?usp=sharing" target="_blank" align="" icon="" icon_position="" color="" font_color="" size="2" full_width="" class="" download="" onclick=""] El sábado\,  7 de junio\,  a las 21 horas\,  en la Iglesia San José Pignatelli\,  tienes una cita con la Música y con la Espiritualidad. Este año\,  el Centro Pignatelli acoge La VIII edición de La[..]
END:VEVENT
END:VCALENDAR