BEGIN:VCALENDAR
VERSION:2.0
PRODID:-//eventon.com NONSGML v1.0//EN
BEGIN:VEVENT
UID:69e5e75d1e1e0
DTSTAMP:20260420T104413
DTSTART:20251114T173000Z
DTEND:20251114T190000Z
LOCATION:Centro Pignatelli Paseo Constitución\,  6
SUMMARY:SAN JOSÉ PIGNATELLI
DESCRIPTION: El próximo día 14 de noviembre celebraremos todos amigos de la espiritualidad ignaciana\,  la fiesta de San José Pignatelli. Santo jesuita zaragozano. De especial relevancia en la restauración y configuración de la Compañía de Jesús en el siglo XIX tras su supresión y disolución. Para ello nos juntaremos en la[..]
END:VEVENT
END:VCALENDAR